Package: genomes Version: 3.36.0 Command: /Library/Frameworks/R.framework/Resources/bin/R CMD INSTALL genomes StartedAt: 2025-01-27 15:12:27 -0500 (Mon, 27 Jan 2025) EndedAt: 2025-01-27 15:12:32 -0500 (Mon, 27 Jan 2025) EllapsedTime: 4.7 seconds RetCode: 0 Status: OK