Package: genomation Version: 1.38.0 Command: F:\biocbuild\bbs-3.20-bioc\R\bin\R.exe CMD check --no-multiarch --install=check:genomation.install-out.txt --library=F:\biocbuild\bbs-3.20-bioc\R\library --no-vignettes --timings genomation_1.38.0.tar.gz StartedAt: 2025-01-28 01:53:10 -0500 (Tue, 28 Jan 2025) EndedAt: 2025-01-28 01:59:32 -0500 (Tue, 28 Jan 2025) EllapsedTime: 382.1 seconds RetCode: 0 Status: WARNINGS CheckDir: genomation.Rcheck Warnings: 1