Package: genoCN Version: 1.58.0 Command: /home/biocbuild/R/R/bin/R CMD build --keep-empty-dirs --no-resave-data genoCN StartedAt: 2025-01-30 23:48:33 -0000 (Thu, 30 Jan 2025) EndedAt: 2025-01-30 23:48:47 -0000 (Thu, 30 Jan 2025) EllapsedTime: 14.0 seconds RetCode: 0 Status: OK PackageFile: genoCN_1.58.0.tar.gz PackageFileSize: 1.132 MiB