Package: geneplotter Version: 1.84.0 Command: /home/biocbuild/R/R/bin/R CMD check --install=check:geneplotter.install-out.txt --library=/home/biocbuild/R/R/site-library --no-vignettes --timings geneplotter_1.84.0.tar.gz StartedAt: 2025-04-01 06:45:00 -0000 (Tue, 01 Apr 2025) EndedAt: 2025-04-01 06:47:10 -0000 (Tue, 01 Apr 2025) EllapsedTime: 130.2 seconds RetCode: 0 Status: OK CheckDir: geneplotter.Rcheck Warnings: 0