Package: geneplotter Version: 1.84.0 Command: /home/biocbuild/R/R/bin/R CMD build --keep-empty-dirs --no-resave-data geneplotter StartedAt: 2025-01-30 23:47:29 -0000 (Thu, 30 Jan 2025) EndedAt: 2025-01-30 23:47:59 -0000 (Thu, 30 Jan 2025) EllapsedTime: 30.0 seconds RetCode: 0 Status: OK PackageFile: geneplotter_1.84.0.tar.gz PackageFileSize: 1.596 MiB