Package: geneplotter Version: 1.84.0 Command: F:\biocbuild\bbs-3.20-bioc\R\bin\R.exe CMD INSTALL geneplotter StartedAt: 2025-01-30 15:44:47 -0500 (Thu, 30 Jan 2025) EndedAt: 2025-01-30 15:45:22 -0500 (Thu, 30 Jan 2025) EllapsedTime: 35.2 seconds RetCode: 0 Status: OK