Package: geneplotter Version: 1.84.0 Command: chmod a+r geneplotter -R && F:\biocbuild\bbs-3.20-bioc\R\bin\R.exe CMD build --keep-empty-dirs --no-resave-data geneplotter StartedAt: 2025-01-30 19:06:34 -0500 (Thu, 30 Jan 2025) EndedAt: 2025-01-30 19:07:19 -0500 (Thu, 30 Jan 2025) EllapsedTime: 44.8 seconds RetCode: 0 Status: OK PackageFile: geneplotter_1.84.0.tar.gz PackageFileSize: 1.461 MiB