Package: geneplotter Version: 1.84.0 Command: rm -rf geneplotter.buildbin-libdir && mkdir geneplotter.buildbin-libdir && F:\biocbuild\bbs-3.20-bioc\R\bin\R.exe CMD INSTALL --build --library=geneplotter.buildbin-libdir geneplotter_1.84.0.tar.gz StartedAt: 2025-04-01 08:15:13 -0400 (Tue, 01 Apr 2025) EndedAt: 2025-04-01 08:15:41 -0400 (Tue, 01 Apr 2025) EllapsedTime: 28.4 seconds RetCode: 0 Status: OK PackageFile: geneplotter_1.84.0.zip PackageFileSize: 1.578 MiB