Package: geneplotter Version: 1.84.0 Command: /home/biocbuild/bbs-3.20-bioc/R/bin/R CMD INSTALL geneplotter StartedAt: 2025-01-30 15:20:36 -0500 (Thu, 30 Jan 2025) EndedAt: 2025-01-30 15:20:55 -0500 (Thu, 30 Jan 2025) EllapsedTime: 18.9 seconds RetCode: 0 Status: OK