Package: geneplotter Version: 1.84.0 Command: /home/biocbuild/bbs-3.20-bioc/R/bin/R CMD build --keep-empty-dirs --no-resave-data --md5 geneplotter StartedAt: 2025-01-30 17:22:11 -0500 (Thu, 30 Jan 2025) EndedAt: 2025-01-30 17:22:34 -0500 (Thu, 30 Jan 2025) EllapsedTime: 23.0 seconds RetCode: 0 Status: OK PackageFile: geneplotter_1.84.0.tar.gz PackageFileSize: 1.638 MiB