Package: geneXtendeR Version: 1.32.0 Command: /home/biocbuild/R/R/bin/R CMD build --keep-empty-dirs --no-resave-data geneXtendeR StartedAt: 2025-01-28 00:30:30 -0000 (Tue, 28 Jan 2025) EndedAt: 2025-01-28 00:30:34 -0000 (Tue, 28 Jan 2025) EllapsedTime: 4.0 seconds RetCode: 0 Status: OK PackageFile: geneXtendeR_1.32.0.tar.gz PackageFileSize: 11.74 MiB