Package: geneXtendeR Version: 1.32.0 Command: /Library/Frameworks/R.framework/Resources/bin/R CMD build --keep-empty-dirs --no-resave-data geneXtendeR StartedAt: 2025-03-31 18:54:43 -0400 (Mon, 31 Mar 2025) EndedAt: 2025-03-31 18:54:50 -0400 (Mon, 31 Mar 2025) EllapsedTime: 6.6 seconds RetCode: 0 Status: OK PackageFile: geneXtendeR_1.32.0.tar.gz PackageFileSize: 11.74 MiB