Package: geneXtendeR Version: 1.32.0 Command: rm -rf geneXtendeR.buildbin-libdir && mkdir geneXtendeR.buildbin-libdir && /Users/biocbuild/BBS/utils/build-universal.sh geneXtendeR_1.32.0.tar.gz /Library/Frameworks/R.framework/Resources/bin/R geneXtendeR.buildbin-libdir StartedAt: 2025-04-01 11:56:33 -0400 (Tue, 01 Apr 2025) EndedAt: 2025-04-01 11:58:19 -0400 (Tue, 01 Apr 2025) EllapsedTime: 105.8 seconds RetCode: 0 Status: OK PackageFile: geneXtendeR_1.32.0.tgz PackageFileSize: 8.419 MiB