Package: geneRxCluster Version: 1.42.0 Command: /home/biocbuild/R/R/bin/R CMD INSTALL geneRxCluster StartedAt: 2025-01-30 20:14:07 -0000 (Thu, 30 Jan 2025) EndedAt: 2025-01-30 20:14:18 -0000 (Thu, 30 Jan 2025) EllapsedTime: 11.8 seconds RetCode: 0 Status: OK