Package: geneRxCluster Version: 1.42.0 Command: /home/biocbuild/R/R/bin/R CMD check --install=check:geneRxCluster.install-out.txt --library=/home/biocbuild/R/R/site-library --no-vignettes --timings geneRxCluster_1.42.0.tar.gz StartedAt: 2025-01-31 06:31:12 -0000 (Fri, 31 Jan 2025) EndedAt: 2025-01-31 06:32:32 -0000 (Fri, 31 Jan 2025) EllapsedTime: 80.1 seconds RetCode: 0 Status: OK CheckDir: geneRxCluster.Rcheck Warnings: 0