Package: geneClassifiers Version: 1.30.0 Command: rm -rf geneClassifiers.buildbin-libdir && mkdir geneClassifiers.buildbin-libdir && F:\biocbuild\bbs-3.20-bioc\R\bin\R.exe CMD INSTALL --build --library=geneClassifiers.buildbin-libdir geneClassifiers_1.30.0.tar.gz StartedAt: 2025-01-28 08:11:46 -0500 (Tue, 28 Jan 2025) EndedAt: 2025-01-28 08:14:01 -0500 (Tue, 28 Jan 2025) EllapsedTime: 134.7 seconds RetCode: 0 Status: OK PackageFile: geneClassifiers_1.30.0.zip PackageFileSize: 1.744 MiB