Package: geneClassifiers Version: 1.30.0 Command: /Library/Frameworks/R.framework/Resources/bin/R CMD build --keep-empty-dirs --no-resave-data geneClassifiers StartedAt: 2025-03-31 23:54:32 -0400 (Mon, 31 Mar 2025) EndedAt: 2025-03-31 23:54:50 -0400 (Mon, 31 Mar 2025) EllapsedTime: 17.9 seconds RetCode: 0 Status: OK PackageFile: geneClassifiers_1.30.0.tar.gz PackageFileSize: 1.847 MiB