Package: geneClassifiers Version: 1.30.0 Command: rm -rf geneClassifiers.buildbin-libdir && mkdir geneClassifiers.buildbin-libdir && /Users/biocbuild/BBS/utils/build-universal.sh geneClassifiers_1.30.0.tar.gz /Library/Frameworks/R.framework/Resources/bin/R geneClassifiers.buildbin-libdir StartedAt: 2025-01-29 14:45:07 -0500 (Wed, 29 Jan 2025) EndedAt: 2025-01-29 14:45:15 -0500 (Wed, 29 Jan 2025) EllapsedTime: 8.0 seconds RetCode: 0 Status: OK PackageFile: geneClassifiers_1.30.0.tgz PackageFileSize: 1.886 MiB