Package: geneAttribution Version: 1.32.0 Command: /Library/Frameworks/R.framework/Resources/bin/R CMD INSTALL geneAttribution StartedAt: 2025-03-31 16:02:32 -0400 (Mon, 31 Mar 2025) EndedAt: 2025-03-31 16:03:12 -0400 (Mon, 31 Mar 2025) EllapsedTime: 39.5 seconds RetCode: 0 Status: OK