Package: genArise Version: 1.82.0 Command: chmod a+r genArise -R && F:\biocbuild\bbs-3.20-bioc\R\bin\R.exe CMD build --keep-empty-dirs --no-resave-data genArise StartedAt: 2025-01-27 19:07:19 -0500 (Mon, 27 Jan 2025) EndedAt: 2025-01-27 19:07:44 -0500 (Mon, 27 Jan 2025) EllapsedTime: 25.1 seconds RetCode: 0 Status: OK PackageFile: genArise_1.82.0.tar.gz PackageFileSize: 843.5 KiB