Package: genArise Version: 1.82.0 Command: rm -rf genArise.buildbin-libdir && mkdir genArise.buildbin-libdir && /Users/biocbuild/BBS/utils/build-universal.sh genArise_1.82.0.tar.gz /Library/Frameworks/R.framework/Resources/bin/R genArise.buildbin-libdir StartedAt: 2025-04-02 14:27:28 -0400 (Wed, 02 Apr 2025) EndedAt: 2025-04-02 14:27:42 -0400 (Wed, 02 Apr 2025) EllapsedTime: 13.7 seconds RetCode: 0 Status: OK PackageFile: genArise_1.82.0.tgz PackageFileSize: 1.242 MiB