Package: gemma.R Version: 3.2.1 Command: /Library/Frameworks/R.framework/Resources/bin/R CMD check --install=check:gemma.R.install-out.txt --library=/Library/Frameworks/R.framework/Resources/library --no-vignettes --timings gemma.R_3.2.1.tar.gz StartedAt: 2025-03-14 03:13:30 -0400 (Fri, 14 Mar 2025) EndedAt: 2025-03-14 03:24:23 -0400 (Fri, 14 Mar 2025) EllapsedTime: 652.9 seconds RetCode: 0 Status: OK CheckDir: gemma.R.Rcheck Warnings: 0