Package: gemini Version: 1.20.0 Command: F:\biocbuild\bbs-3.20-bioc\R\bin\R.exe CMD check --no-multiarch --install=check:gemini.install-out.txt --library=F:\biocbuild\bbs-3.20-bioc\R\library --no-vignettes --timings gemini_1.20.0.tar.gz StartedAt: 2025-04-01 01:47:11 -0400 (Tue, 01 Apr 2025) EndedAt: 2025-04-01 01:50:09 -0400 (Tue, 01 Apr 2025) EllapsedTime: 177.8 seconds RetCode: 0 Status: OK CheckDir: gemini.Rcheck Warnings: 0