Package: gemini Version: 1.20.0 Command: /Library/Frameworks/R.framework/Resources/bin/R CMD build --keep-empty-dirs --no-resave-data gemini StartedAt: 2025-03-31 23:52:53 -0400 (Mon, 31 Mar 2025) EndedAt: 2025-03-31 23:53:24 -0400 (Mon, 31 Mar 2025) EllapsedTime: 30.7 seconds RetCode: 0 Status: OK PackageFile: gemini_1.20.0.tar.gz PackageFileSize: 4.111 MiB