Package: geNetClassifier Version: 1.46.0 Command: /home/biocbuild/R/R/bin/R CMD INSTALL geNetClassifier StartedAt: 2025-01-27 21:58:50 -0000 (Mon, 27 Jan 2025) EndedAt: 2025-01-27 21:59:02 -0000 (Mon, 27 Jan 2025) EllapsedTime: 12.5 seconds RetCode: 0 Status: OK