Package: geNetClassifier Version: 1.46.0 Command: /Library/Frameworks/R.framework/Resources/bin/R CMD build --keep-empty-dirs --no-resave-data geNetClassifier StartedAt: 2025-01-27 19:11:32 -0500 (Mon, 27 Jan 2025) EndedAt: 2025-01-27 19:12:12 -0500 (Mon, 27 Jan 2025) EllapsedTime: 40.3 seconds RetCode: 0 Status: OK PackageFile: geNetClassifier_1.46.0.tar.gz PackageFileSize: 3.94 MiB