Package: gcrma Version: 2.78.0 Command: F:\biocbuild\bbs-3.20-bioc\R\bin\R.exe CMD INSTALL gcrma StartedAt: 2025-03-31 15:43:08 -0400 (Mon, 31 Mar 2025) EndedAt: 2025-03-31 15:43:33 -0400 (Mon, 31 Mar 2025) EllapsedTime: 24.7 seconds RetCode: 0 Status: OK