Package: gcrma Version: 2.78.0 Command: /Library/Frameworks/R.framework/Resources/bin/R CMD build --keep-empty-dirs --no-resave-data gcrma StartedAt: 2025-01-27 23:59:47 -0500 (Mon, 27 Jan 2025) EndedAt: 2025-01-28 00:00:10 -0500 (Tue, 28 Jan 2025) EllapsedTime: 22.9 seconds RetCode: 0 Status: OK PackageFile: gcrma_2.78.0.tar.gz PackageFileSize: 288.6 KiB