Package: gcatest Version: 2.6.0 Command: rm -rf gcatest.buildbin-libdir && mkdir gcatest.buildbin-libdir && F:\biocbuild\bbs-3.20-bioc\R\bin\R.exe CMD INSTALL --build --library=gcatest.buildbin-libdir gcatest_2.6.0.tar.gz StartedAt: 2025-04-01 08:13:55 -0400 (Tue, 01 Apr 2025) EndedAt: 2025-04-01 08:14:08 -0400 (Tue, 01 Apr 2025) EllapsedTime: 12.4 seconds RetCode: 0 Status: OK PackageFile: gcatest_2.6.0.zip PackageFileSize: 3.546 MiB