Package: gcatest Version: 2.6.0 Command: /Library/Frameworks/R.framework/Resources/bin/R CMD INSTALL gcatest StartedAt: 2025-01-27 15:11:03 -0500 (Mon, 27 Jan 2025) EndedAt: 2025-01-27 15:11:13 -0500 (Mon, 27 Jan 2025) EllapsedTime: 9.7 seconds RetCode: 0 Status: OK