Package: gatom Version: 1.4.0 Command: /Library/Frameworks/R.framework/Resources/bin/R CMD INSTALL gatom StartedAt: 2025-01-27 15:57:22 -0500 (Mon, 27 Jan 2025) EndedAt: 2025-01-27 15:58:00 -0500 (Mon, 27 Jan 2025) EllapsedTime: 38.6 seconds RetCode: 0 Status: OK