Package: gatom Version: 1.4.0 Command: /home/biocbuild/R/R/bin/R CMD build --keep-empty-dirs --no-resave-data gatom StartedAt: 2024-11-20 00:49:39 -0000 (Wed, 20 Nov 2024) EndedAt: 2024-11-20 01:04:38 -0000 (Wed, 20 Nov 2024) EllapsedTime: 898.2 seconds RetCode: 0 Status: OK PackageFile: gatom_1.4.0.tar.gz PackageFileSize: 1.87 MiB