Package: gatom Version: 1.4.0 Command: rm -rf gatom.buildbin-libdir && mkdir gatom.buildbin-libdir && /Users/biocbuild/BBS/utils/build-universal.sh gatom_1.4.0.tar.gz /Library/Frameworks/R.framework/Resources/bin/R gatom.buildbin-libdir StartedAt: 2025-04-02 14:25:54 -0400 (Wed, 02 Apr 2025) EndedAt: 2025-04-02 14:26:17 -0400 (Wed, 02 Apr 2025) EllapsedTime: 22.7 seconds RetCode: 0 Status: OK PackageFile: gatom_1.4.0.tgz PackageFileSize: 1.787 MiB