Package: garfield Version: 1.34.0 Command: /home/biocbuild/R/R/bin/R CMD INSTALL garfield StartedAt: 2025-01-27 21:02:04 -0000 (Mon, 27 Jan 2025) EndedAt: 2025-01-27 21:02:19 -0000 (Mon, 27 Jan 2025) EllapsedTime: 14.7 seconds RetCode: 0 Status: OK