Package: gage Version: 2.56.0 Command: /home/biocbuild/bbs-3.20-bioc/R/bin/R CMD check --install=check:gage.install-out.txt --library=/home/biocbuild/bbs-3.20-bioc/R/site-library --timings gage_2.56.0.tar.gz StartedAt: 2025-02-03 22:29:48 -0500 (Mon, 03 Feb 2025) EndedAt: 2025-02-03 22:34:02 -0500 (Mon, 03 Feb 2025) EllapsedTime: 254.2 seconds RetCode: 0 Status: WARNINGS CheckDir: gage.Rcheck Warnings: 2