Package: gaga Version: 2.52.0 Command: /home/biocbuild/R/R/bin/R CMD check --install=check:gaga.install-out.txt --library=/home/biocbuild/R/R/site-library --no-vignettes --timings gaga_2.52.0.tar.gz StartedAt: 2025-02-04 07:07:42 -0000 (Tue, 04 Feb 2025) EndedAt: 2025-02-04 07:08:43 -0000 (Tue, 04 Feb 2025) EllapsedTime: 61.0 seconds RetCode: 0 Status: WARNINGS CheckDir: gaga.Rcheck Warnings: 1