Package: gaga Version: 2.52.0 Command: /home/biocbuild/R/R/bin/R CMD build --keep-empty-dirs --no-resave-data gaga StartedAt: 2025-01-30 23:42:28 -0000 (Thu, 30 Jan 2025) EndedAt: 2025-01-30 23:42:57 -0000 (Thu, 30 Jan 2025) EllapsedTime: 28.0 seconds RetCode: 0 Status: OK PackageFile: gaga_2.52.0.tar.gz PackageFileSize: 560.2 KiB