Package: gaga Version: 2.52.0 Command: F:\biocbuild\bbs-3.20-bioc\R\bin\R.exe CMD INSTALL gaga StartedAt: 2025-03-31 15:31:22 -0400 (Mon, 31 Mar 2025) EndedAt: 2025-03-31 15:32:00 -0400 (Mon, 31 Mar 2025) EllapsedTime: 37.6 seconds RetCode: 0 Status: OK