Package: gaga Version: 2.52.0 Command: chmod a+r gaga -R && F:\biocbuild\bbs-3.20-bioc\R\bin\R.exe CMD build --keep-empty-dirs --no-resave-data gaga StartedAt: 2025-01-27 19:04:02 -0500 (Mon, 27 Jan 2025) EndedAt: 2025-01-27 19:04:37 -0500 (Mon, 27 Jan 2025) EllapsedTime: 35.1 seconds RetCode: 0 Status: OK PackageFile: gaga_2.52.0.tar.gz PackageFileSize: 433.9 KiB