Package: gaga Version: 2.52.0 Command: rm -rf gaga.buildbin-libdir && mkdir gaga.buildbin-libdir && F:\biocbuild\bbs-3.20-bioc\R\bin\R.exe CMD INSTALL --build --library=gaga.buildbin-libdir gaga_2.52.0.tar.gz StartedAt: 2025-01-28 08:10:47 -0500 (Tue, 28 Jan 2025) EndedAt: 2025-01-28 08:11:22 -0500 (Tue, 28 Jan 2025) EllapsedTime: 35.2 seconds RetCode: 0 Status: OK PackageFile: gaga_2.52.0.zip PackageFileSize: 626.9 KiB