Package: gaga Version: 2.52.0 Command: rm -rf gaga.buildbin-libdir && mkdir gaga.buildbin-libdir && /Users/biocbuild/BBS/utils/build-universal.sh gaga_2.52.0.tar.gz /Library/Frameworks/R.framework/Resources/bin/R gaga.buildbin-libdir StartedAt: 2025-04-01 11:54:31 -0400 (Tue, 01 Apr 2025) EndedAt: 2025-04-01 11:55:01 -0400 (Tue, 01 Apr 2025) EllapsedTime: 30.4 seconds RetCode: 0 Status: OK PackageFile: gaga_2.52.0.tgz PackageFileSize: 787.1 KiB