Package: gINTomics Version: 1.2.0 Command: /Library/Frameworks/R.framework/Resources/bin/R CMD INSTALL gINTomics StartedAt: 2025-02-03 16:20:54 -0500 (Mon, 03 Feb 2025) EndedAt: 2025-02-03 16:23:27 -0500 (Mon, 03 Feb 2025) EllapsedTime: 152.6 seconds RetCode: 0 Status: OK