Package: gINTomics Version: 1.2.0 Command: rm -rf gINTomics.buildbin-libdir && mkdir gINTomics.buildbin-libdir && /Users/biocbuild/BBS/utils/build-universal.sh gINTomics_1.2.0.tar.gz /Library/Frameworks/R.framework/Resources/bin/R gINTomics.buildbin-libdir StartedAt: 2025-02-04 13:04:17 -0500 (Tue, 04 Feb 2025) EndedAt: 2025-02-04 13:07:37 -0500 (Tue, 04 Feb 2025) EllapsedTime: 200.0 seconds RetCode: 0 Status: OK PackageFile: gINTomics_1.2.0.tgz PackageFileSize: 3.847 MiB