Package: gDRstyle Version: 1.4.0 Command: /Library/Frameworks/R.framework/Resources/bin/R CMD check --install=check:gDRstyle.install-out.txt --library=/Library/Frameworks/R.framework/Resources/library --no-vignettes --timings gDRstyle_1.4.0.tar.gz StartedAt: 2025-01-31 04:10:42 -0500 (Fri, 31 Jan 2025) EndedAt: 2025-01-31 04:13:02 -0500 (Fri, 31 Jan 2025) EllapsedTime: 140.1 seconds RetCode: 0 Status: OK CheckDir: gDRstyle.Rcheck Warnings: 0