Package: gDRimport Version: 1.4.6 Command: /home/biocbuild/R/R/bin/R CMD check --install=check:gDRimport.install-out.txt --library=/home/biocbuild/R/R/site-library --no-vignettes --timings gDRimport_1.4.6.tar.gz StartedAt: 2025-04-01 06:40:26 -0000 (Tue, 01 Apr 2025) EndedAt: 2025-04-01 06:44:02 -0000 (Tue, 01 Apr 2025) EllapsedTime: 216.2 seconds RetCode: 0 Status: OK CheckDir: gDRimport.Rcheck Warnings: 0