Package: gDRimport Version: 1.4.0 Command: F:\biocbuild\bbs-3.20-bioc\R\bin\R.exe CMD check --no-multiarch --install=check:gDRimport.install-out.txt --library=F:\biocbuild\bbs-3.20-bioc\R\library --no-vignettes --timings gDRimport_1.4.0.tar.gz StartedAt: 2025-01-28 01:46:05 -0500 (Tue, 28 Jan 2025) EndedAt: 2025-01-28 01:50:00 -0500 (Tue, 28 Jan 2025) EllapsedTime: 234.4 seconds RetCode: 0 Status: OK CheckDir: gDRimport.Rcheck Warnings: 0