Package: gDRimport Version: 1.4.0 Command: rm -rf gDRimport.buildbin-libdir && mkdir gDRimport.buildbin-libdir && F:\biocbuild\bbs-3.20-bioc\R\bin\R.exe CMD INSTALL --build --library=gDRimport.buildbin-libdir gDRimport_1.4.0.tar.gz StartedAt: 2025-01-28 08:11:18 -0500 (Tue, 28 Jan 2025) EndedAt: 2025-01-28 08:12:58 -0500 (Tue, 28 Jan 2025) EllapsedTime: 99.7 seconds RetCode: 0 Status: OK PackageFile: gDRimport_1.4.0.zip PackageFileSize: 3.46 MiB