Package: gDRimport Version: 1.4.0 Command: /home/biocbuild/bbs-3.20-bioc/R/bin/R CMD INSTALL gDRimport StartedAt: 2025-02-03 16:04:29 -0500 (Mon, 03 Feb 2025) EndedAt: 2025-02-03 16:04:55 -0500 (Mon, 03 Feb 2025) EllapsedTime: 26.5 seconds RetCode: 0 Status: OK