Package: gDRimport Version: 1.4.0 Command: /Library/Frameworks/R.framework/Resources/bin/R CMD INSTALL gDRimport StartedAt: 2025-02-03 16:41:24 -0500 (Mon, 03 Feb 2025) EndedAt: 2025-02-03 16:42:17 -0500 (Mon, 03 Feb 2025) EllapsedTime: 52.7 seconds RetCode: 0 Status: OK