Package: gDRimport Version: 1.4.0 Command: /Library/Frameworks/R.framework/Resources/bin/R CMD check --install=check:gDRimport.install-out.txt --library=/Library/Frameworks/R.framework/Resources/library --no-vignettes --timings gDRimport_1.4.0.tar.gz StartedAt: 2025-01-28 04:09:48 -0500 (Tue, 28 Jan 2025) EndedAt: 2025-01-28 04:16:16 -0500 (Tue, 28 Jan 2025) EllapsedTime: 387.5 seconds RetCode: 0 Status: OK CheckDir: gDRimport.Rcheck Warnings: 0